BEGIN:VCALENDAR
VERSION:2.0
PRODID:GlueUp
CALSCALE:GREGORIAN
BEGIN:VTIMEZONE
TZID:UTC
BEGIN:STANDARD
DTSTART:19700101T000000
TZOFFSETFROM:+0000
TZOFFSETTO:+0000
TZNAME:UTC
END:STANDARD
END:VTIMEZONE
BEGIN:VEVENT
TZ:+00
ORGANIZER;CN=Candice Zhao:MAILTO:candice@ccbc.com.cn
UID:40568-1776663654@https://canchambeijing.glueup.cn
DTSTAMP:20260420T054054Z
DTSTART:20230630T000000Z
DTEND:20230630T060000Z
SUMMARY:Canada Day Classic Golf Tournament
DESCRIPTION:Canada Day Classic Golf Tournament by Canadian Chamber of Commerce in Beijing\n\nJun 30, 2023 (08:00 - 14:00)(GMT+8)\n\nFor more information, click here: https://canchambeijing.glueup.cn/my/events/40568
LOCATION:Beijing Huatang International Golf Club - 华堂国际高尔夫俱乐部 河北省廊坊市三河市燕郊经济技术开发区左堤路南 廊坊 - China
BEGIN:VALARM
TRIGGER:-PT48H
REPEAT:4
DURATION:PT30M
ACTION:DISPLAY
END:VALARM
END:VEVENT
END:VCALENDAR